BEGIN:VCALENDAR
VERSION:2.0
PRODID:-//birthparentsupportalliance.org//NONSGML kigkonsult.se iCalcreator
  2.30.10//
CALSCALE:GREGORIAN
METHOD:PUBLISH
UID:9ef0e49a-477f-4e82-9c58-cf115389dae9
X-WR-CALDESC:
X-WR-RELCALID:2506e11a9dfff9c184a523f132156c11
X-WR-TIMEZONE:America/Chicago
BEGIN:VTIMEZONE
TZID:America/Chicago
BEGIN:STANDARD
TZNAME:CST
DTSTART:20301103T020000
TZOFFSETFROM:-0500
TZOFFSETTO:-0600
RDATE:20311102T020000
END:STANDARD
BEGIN:DAYLIGHT
TZNAME:CDT
DTSTART:20310309T020000
TZOFFSETFROM:-0600
TZOFFSETTO:-0500
RDATE:20320314T020000
END:DAYLIGHT
END:VTIMEZONE
BEGIN:VEVENT
UID:f77c8719-a197-4eb0-80ce-472647ae456c
DTSTAMP:20260424T120119Z
DESCRIPTION:
DTSTART;TZID=America/Chicago:20310319T190000
DTEND;TZID=America/Chicago:20310319T200000
LOCATION:https://us02web.zoom.us/meeting/register/tZYrfuuvrD0uHddF56AbIBpfR
 iR4Zoe3co8s
SUMMARY:BirthmomsConnect Closed/Reunion Call
END:VEVENT
END:VCALENDAR
