BEGIN:VCALENDAR
VERSION:2.0
PRODID:-//birthparentsupportalliance.org//NONSGML kigkonsult.se iCalcreator
  2.30.10//
CALSCALE:GREGORIAN
METHOD:PUBLISH
UID:6cce2245-713f-4a5c-97f0-38113ac23f74
X-WR-CALDESC:*2nd Thursday is a moderated call. All other Thursdays are an 
 open call that can be joined by any birthmom who would just like to chat w
 ith other birthmoms. Registration for the Thursday Connect Call is require
 d to participate.
X-WR-RELCALID:28f31a0607465933fd6ec6bd51bb51c0
X-WR-TIMEZONE:America/Chicago
BEGIN:VTIMEZONE
TZID:America/Chicago
BEGIN:STANDARD
TZNAME:CST
DTSTART:20291104T020000
TZOFFSETFROM:-0500
TZOFFSETTO:-0600
RDATE:20301103T020000
END:STANDARD
BEGIN:DAYLIGHT
TZNAME:CDT
DTSTART:20290311T020000
TZOFFSETFROM:-0600
TZOFFSETTO:-0500
RDATE:20300310T020000
RDATE:20310309T020000
END:DAYLIGHT
END:VTIMEZONE
BEGIN:VEVENT
UID:ee5aabe7-68e4-43d9-8347-0883999e1d93
DTSTAMP:20260422T052847Z
DESCRIPTION:*2nd Thursday is a moderated call. All other Thursdays are an o
 pen call that can be joined by any birthmom who would just like to chat wi
 th other birthmoms. Registration for the Thursday Connect Call is required
  to participate.
DTSTART;TZID=America/Chicago:20300307T200000
DTEND;TZID=America/Chicago:20300307T210000
LOCATION:
SUMMARY:BirthmomConnect OPEN Call
END:VEVENT
END:VCALENDAR
