BEGIN:VCALENDAR
VERSION:2.0
PRODID:-//birthparentsupportalliance.org//NONSGML kigkonsult.se iCalcreator
  2.30.10//
CALSCALE:GREGORIAN
METHOD:PUBLISH
UID:ece4b978-ab4e-4086-aee9-5c85bbad0f8c
X-WR-CALDESC:
X-WR-RELCALID:7f504ea398ced4b6533dd70619676625
X-WR-TIMEZONE:America/Chicago
BEGIN:VTIMEZONE
TZID:America/Chicago
BEGIN:STANDARD
TZNAME:CST
DTSTART:20291104T020000
TZOFFSETFROM:-0500
TZOFFSETTO:-0600
RDATE:20301103T020000
END:STANDARD
BEGIN:DAYLIGHT
TZNAME:CDT
DTSTART:20290311T020000
TZOFFSETFROM:-0600
TZOFFSETTO:-0500
RDATE:20300310T020000
RDATE:20310309T020000
END:DAYLIGHT
END:VTIMEZONE
BEGIN:VEVENT
UID:ffa219ef-3de0-40be-bf62-4c4d9c655765
DTSTAMP:20260422T020727Z
DESCRIPTION:
DTSTART;TZID=America/Chicago:20300116T190000
DTEND;TZID=America/Chicago:20300116T200000
LOCATION:https://us02web.zoom.us/meeting/register/tZYrfuuvrD0uHddF56AbIBpfR
 iR4Zoe3co8s
SUMMARY:BirthmomsConnect Closed/Reunion Call
END:VEVENT
END:VCALENDAR
