BEGIN:VCALENDAR
VERSION:2.0
PRODID:-//birthparentsupportalliance.org//NONSGML kigkonsult.se iCalcreator
  2.30.10//
CALSCALE:GREGORIAN
METHOD:PUBLISH
UID:85e08305-ce4e-4749-bcc7-d164d7a1b080
X-WR-CALDESC:*2nd Thursday is a moderated call. All other Thursdays are an 
 open call that can be joined by any birthmom who would just like to chat w
 ith other birthmoms. Registration for the Thursday Connect Call is require
 d to participate.
X-WR-RELCALID:8f921d0cc7265b4f6c6d0fb92d2f22e1
X-WR-TIMEZONE:America/Chicago
BEGIN:VTIMEZONE
TZID:America/Chicago
BEGIN:STANDARD
TZNAME:CST
DTSTART:20261101T020000
TZOFFSETFROM:-0500
TZOFFSETTO:-0600
RDATE:20271107T020000
END:STANDARD
BEGIN:DAYLIGHT
TZNAME:CDT
DTSTART:20260308T020000
TZOFFSETFROM:-0600
TZOFFSETTO:-0500
RDATE:20270314T020000
RDATE:20280312T020000
END:DAYLIGHT
END:VTIMEZONE
BEGIN:VEVENT
UID:e6082771-30ad-4951-8a15-a70035086f2f
DTSTAMP:20260419T154108Z
DESCRIPTION:*2nd Thursday is a moderated call. All other Thursdays are an o
 pen call that can be joined by any birthmom who would just like to chat wi
 th other birthmoms. Registration for the Thursday Connect Call is required
  to participate.
DTSTART;TZID=America/Chicago:20270128T200000
DTEND;TZID=America/Chicago:20270128T210000
LOCATION:
SUMMARY:BirthmomConnect OPEN Call
END:VEVENT
END:VCALENDAR
