BEGIN:VCALENDAR
VERSION:2.0
PRODID:-//birthparentsupportalliance.org//NONSGML kigkonsult.se iCalcreator
  2.30.10//
CALSCALE:GREGORIAN
METHOD:PUBLISH
UID:52e06a1c-d2de-4d2e-ad19-09478892e987
X-WR-CALDESC:*2nd Thursday is a moderated call. All other Thursdays are an 
 open call that can be joined by any birthmom who would just like to chat w
 ith other birthmoms. Registration for the Thursday Connect Call is require
 d to participate.
X-WR-RELCALID:3d7b421347336c490daa87450921ad31
X-WR-TIMEZONE:America/Chicago
BEGIN:VTIMEZONE
TZID:America/Chicago
BEGIN:STANDARD
TZNAME:CST
DTSTART:20241103T020000
TZOFFSETFROM:-0500
TZOFFSETTO:-0600
RDATE:20251102T020000
END:STANDARD
BEGIN:DAYLIGHT
TZNAME:CDT
DTSTART:20250309T020000
TZOFFSETFROM:-0600
TZOFFSETTO:-0500
RDATE:20260308T020000
END:DAYLIGHT
END:VTIMEZONE
BEGIN:VEVENT
UID:8beba170-a406-455f-a42f-fad82f5abedc
DTSTAMP:20260419T202841Z
DESCRIPTION:*2nd Thursday is a moderated call. All other Thursdays are an o
 pen call that can be joined by any birthmom who would just like to chat wi
 th other birthmoms. Registration for the Thursday Connect Call is required
  to participate.
DTSTART;TZID=America/Chicago:20250403T200000
DTEND;TZID=America/Chicago:20250403T210000
LOCATION:
SUMMARY:BirthmomConnect OPEN Call
END:VEVENT
END:VCALENDAR
