BEGIN:VCALENDAR
VERSION:2.0
PRODID:-//birthparentsupportalliance.org//NONSGML kigkonsult.se iCalcreator
  2.30.10//
CALSCALE:GREGORIAN
METHOD:PUBLISH
UID:2793e95d-1b34-435a-bb19-e7d7e4d7d0eb
X-WR-CALDESC:
X-WR-RELCALID:9e32c3634f50c0e43a5b57982f8d9723
X-WR-TIMEZONE:America/Chicago
BEGIN:VTIMEZONE
TZID:America/Chicago
BEGIN:STANDARD
TZNAME:CST
DTSTART:20221106T020000
TZOFFSETFROM:-0500
TZOFFSETTO:-0600
RDATE:20231105T020000
RDATE:20241103T020000
END:STANDARD
BEGIN:DAYLIGHT
TZNAME:CDT
DTSTART:20230312T020000
TZOFFSETFROM:-0600
TZOFFSETTO:-0500
RDATE:20240310T020000
RDATE:20250309T020000
END:DAYLIGHT
END:VTIMEZONE
BEGIN:VEVENT
UID:4f2ff4a4-8bcd-4f73-aba0-f0a7b68403d0
DTSTAMP:20260421T004515Z
DESCRIPTION:
DTSTART;TZID=America/Chicago:20231104T000000
DTEND;TZID=America/Chicago:20231104T235900
LOCATION:
SUMMARY:Fall Virtual Retreat
END:VEVENT
END:VCALENDAR
