BEGIN:VCALENDAR
VERSION:2.0
PRODID:-//birthparentsupportalliance.org//NONSGML kigkonsult.se iCalcreator
  2.30.10//
CALSCALE:GREGORIAN
METHOD:PUBLISH
UID:6a2f5741-ca25-4bee-8f85-97ac33de3cc3
X-WR-CALDESC:
X-WR-RELCALID:d180b60bc52bc4fda62c76caace255d0
X-WR-TIMEZONE:America/Chicago
BEGIN:VTIMEZONE
TZID:America/Chicago
BEGIN:STANDARD
TZNAME:CST
DTSTART:20221106T020000
TZOFFSETFROM:-0500
TZOFFSETTO:-0600
RDATE:20231105T020000
RDATE:20241103T020000
END:STANDARD
BEGIN:DAYLIGHT
TZNAME:CDT
DTSTART:20230312T020000
TZOFFSETFROM:-0600
TZOFFSETTO:-0500
RDATE:20240310T020000
RDATE:20250309T020000
END:DAYLIGHT
END:VTIMEZONE
BEGIN:VEVENT
UID:4d9f85b1-7b6c-42ed-b9e9-d4ef0ea822de
DTSTAMP:20260421T021607Z
DESCRIPTION:
DTSTART;TZID=America/Chicago:20231019T100000
DTEND;TZID=America/Chicago:20231019T113000
LOCATION:
SUMMARY:Adoption Professional Networking Meeting
END:VEVENT
END:VCALENDAR
