BEGIN:VCALENDAR
VERSION:2.0
PRODID:-//birthparentsupportalliance.org//NONSGML kigkonsult.se iCalcreator
  2.30.10//
CALSCALE:GREGORIAN
METHOD:PUBLISH
UID:3def28f6-565e-4b4c-b7ee-d4eba4d6cb58
X-WR-CALDESC:Registration opens July 22nd and closes September 8th
X-WR-RELCALID:d43cb7437765d4c7795e89d99c2b8fff
X-WR-TIMEZONE:America/Chicago
BEGIN:VTIMEZONE
TZID:America/Chicago
BEGIN:STANDARD
TZNAME:CST
DTSTART:20221106T020000
TZOFFSETFROM:-0500
TZOFFSETTO:-0600
RDATE:20231105T020000
RDATE:20241103T020000
END:STANDARD
BEGIN:DAYLIGHT
TZNAME:CDT
DTSTART:20230312T020000
TZOFFSETFROM:-0600
TZOFFSETTO:-0500
RDATE:20240310T020000
RDATE:20250309T020000
END:DAYLIGHT
END:VTIMEZONE
BEGIN:VEVENT
UID:1d3b356a-9a48-46a1-813e-c49d0fa0325f
DTSTAMP:20260421T035016Z
DESCRIPTION:Registration opens July 22nd and closes September 8th
DTSTART;TZID=America/Chicago:20230922T000000
DTEND;TZID=America/Chicago:20230924T235900
LOCATION:
SUMMARY:Fall In-Person Retreat
END:VEVENT
END:VCALENDAR
