BEGIN:VCALENDAR
VERSION:2.0
PRODID:-//birthparentsupportalliance.org//NONSGML kigkonsult.se iCalcreator
  2.30.10//
CALSCALE:GREGORIAN
METHOD:PUBLISH
UID:54535386-555b-4e4e-9ab2-41d5369ad1ac
X-WR-CALDESC:Topic and speaker details to come. This networking event is op
 en to all Birthparent Support Alliance members. For information about memb
 ership please contact Alexis Eyler.
X-WR-RELCALID:261a640648dcfaae6f2da75ac6a37f01
X-WR-TIMEZONE:America/Chicago
BEGIN:VTIMEZONE
TZID:America/Chicago
BEGIN:STANDARD
TZNAME:CST
DTSTART:20221106T020000
TZOFFSETFROM:-0500
TZOFFSETTO:-0600
RDATE:20231105T020000
RDATE:20241103T020000
END:STANDARD
BEGIN:DAYLIGHT
TZNAME:CDT
DTSTART:20230312T020000
TZOFFSETFROM:-0600
TZOFFSETTO:-0500
RDATE:20240310T020000
END:DAYLIGHT
END:VTIMEZONE
BEGIN:VEVENT
UID:bc35a7ee-0e14-4700-9bf1-29c147e06ba0
DTSTAMP:20260421T052133Z
DESCRIPTION:Topic and speaker details to come. This networking event is ope
 n to all Birthparent Support Alliance members. For information about membe
 rship please contact Alexis Eyler.
DTSTART;TZID=America/Chicago:20230809T100000
DTEND;TZID=America/Chicago:20230809T110000
LOCATION:
SUMMARY:Birthparent Support Alliance Networking Meeting
END:VEVENT
END:VCALENDAR
