BEGIN:VCALENDAR
VERSION:2.0
PRODID:-//birthparentsupportalliance.org//NONSGML kigkonsult.se iCalcreator
  2.30.10//
CALSCALE:GREGORIAN
METHOD:PUBLISH
UID:49976ca5-eb62-44d3-bba4-49d062c0f55a
X-WR-CALDESC:Registration opens March 6th and closes April 21st
X-WR-RELCALID:7b13230259e9ede8cb61a0cb5f4aff6a
X-WR-TIMEZONE:America/Chicago
BEGIN:VTIMEZONE
TZID:America/Chicago
BEGIN:STANDARD
TZNAME:CST
DTSTART:20221106T020000
TZOFFSETFROM:-0500
TZOFFSETTO:-0600
RDATE:20231105T020000
RDATE:20241103T020000
END:STANDARD
BEGIN:DAYLIGHT
TZNAME:CDT
DTSTART:20230312T020000
TZOFFSETFROM:-0600
TZOFFSETTO:-0500
RDATE:20240310T020000
END:DAYLIGHT
END:VTIMEZONE
BEGIN:VEVENT
UID:f63f77e7-f96d-415e-aa85-3e469af0e71d
DTSTAMP:20260421T100018Z
DESCRIPTION:Registration opens March 6th and closes April 21st
DTSTART;TZID=America/Chicago:20230506T000000
DTEND;TZID=America/Chicago:20230506T235900
LOCATION:
SUMMARY:Adoptive Mom/Birthmom Virtual Retreat
END:VEVENT
END:VCALENDAR
