BEGIN:VCALENDAR
VERSION:2.0
PRODID:-//birthparentsupportalliance.org//NONSGML kigkonsult.se iCalcreator
  2.30.10//
CALSCALE:GREGORIAN
METHOD:PUBLISH
UID:1d0256af-fdfd-45a7-bfba-1d90e92c2840
X-WR-CALDESC:Registration opens  February 3\, 2023.
X-WR-RELCALID:7e7de55f01113a0182372e082f0432f6
X-WR-TIMEZONE:America/Chicago
BEGIN:VTIMEZONE
TZID:America/Chicago
BEGIN:STANDARD
TZNAME:CST
DTSTART:20221106T020000
TZOFFSETFROM:-0500
TZOFFSETTO:-0600
RDATE:20231105T020000
END:STANDARD
BEGIN:DAYLIGHT
TZNAME:CDT
DTSTART:20230312T020000
TZOFFSETFROM:-0600
TZOFFSETTO:-0500
RDATE:20240310T020000
END:DAYLIGHT
END:VTIMEZONE
BEGIN:VEVENT
UID:a10546fb-3d3b-435c-9768-c4da591b8425
DTSTAMP:20260421T112632Z
DESCRIPTION:Registration opens  February 3\, 2023.
DTSTART;TZID=America/Chicago:20230414T000000
DTEND;TZID=America/Chicago:20230416T235900
LOCATION:
SUMMARY:Adoptive Mom/Birthmom Retreat
END:VEVENT
END:VCALENDAR
