BEGIN:VCALENDAR
VERSION:2.0
PRODID:-//birthparentsupportalliance.org//NONSGML kigkonsult.se iCalcreator
  2.30.10//
CALSCALE:GREGORIAN
METHOD:PUBLISH
UID:ee3aeab5-edba-4726-a9cb-9a65852711bc
X-WR-CALDESC:Registration Opens January 13th
X-WR-RELCALID:238d9d99cb332cb9a9469b83ac0c1120
X-WR-TIMEZONE:America/Chicago
BEGIN:VTIMEZONE
TZID:America/Chicago
BEGIN:STANDARD
TZNAME:CST
DTSTART:20221106T020000
TZOFFSETFROM:-0500
TZOFFSETTO:-0600
RDATE:20231105T020000
END:STANDARD
BEGIN:DAYLIGHT
TZNAME:CDT
DTSTART:20230312T020000
TZOFFSETFROM:-0600
TZOFFSETTO:-0500
RDATE:20240310T020000
END:DAYLIGHT
END:VTIMEZONE
BEGIN:VEVENT
UID:1ef43487-c9a8-421d-adbd-038d421867f7
DTSTAMP:20260421T124919Z
DESCRIPTION:Registration Opens January 13th
DTSTART;TZID=America/Chicago:20230325T000000
DTEND;TZID=America/Chicago:20230325T235900
LOCATION:
SUMMARY:Spring Virtual Retreat
END:VEVENT
END:VCALENDAR
