BEGIN:VCALENDAR
VERSION:2.0
PRODID:-//birthparentsupportalliance.org//NONSGML kigkonsult.se iCalcreator
  2.30.10//
CALSCALE:GREGORIAN
METHOD:PUBLISH
UID:19f0fc53-1a27-4176-9f01-5837094ed7d6
X-WR-CALDESC:
X-WR-RELCALID:ae2041d470bcfcc24795734643bff65e
X-WR-TIMEZONE:America/Chicago
BEGIN:VTIMEZONE
TZID:America/Chicago
BEGIN:STANDARD
TZNAME:CST
DTSTART:20221106T020000
TZOFFSETFROM:-0500
TZOFFSETTO:-0600
RDATE:20231105T020000
END:STANDARD
BEGIN:DAYLIGHT
TZNAME:CDT
DTSTART:20220313T020000
TZOFFSETFROM:-0600
TZOFFSETTO:-0500
RDATE:20230312T020000
RDATE:20240310T020000
END:DAYLIGHT
END:VTIMEZONE
BEGIN:VEVENT
UID:b5777814-5a7f-44cf-95cc-740f3dc54b40
DTSTAMP:20260421T165924Z
DESCRIPTION:
DTSTART;TZID=America/Chicago:20230118T190000
DTEND;TZID=America/Chicago:20230118T200000
LOCATION:https://us02web.zoom.us/meeting/register/tZYrfuuvrD0uHddF56AbIBpfR
 iR4Zoe3co8s
SUMMARY:BirthmomsConnect Closed/Reunion Call
END:VEVENT
END:VCALENDAR
