BEGIN:VCALENDAR
VERSION:2.0
PRODID:-//birthparentsupportalliance.org//NONSGML kigkonsult.se iCalcreator
  2.30.10//
CALSCALE:GREGORIAN
METHOD:PUBLISH
UID:a9c3652d-0f3a-4297-95f5-3d82336fc657
X-WR-CALDESC:
X-WR-RELCALID:e3395cc3d8449370ef3a476c2cc8f627
X-WR-TIMEZONE:America/Chicago
BEGIN:VTIMEZONE
TZID:America/Chicago
BEGIN:STANDARD
TZNAME:CST
DTSTART:20221106T020000
TZOFFSETFROM:-0500
TZOFFSETTO:-0600
RDATE:20231105T020000
END:STANDARD
BEGIN:DAYLIGHT
TZNAME:CDT
DTSTART:20220313T020000
TZOFFSETFROM:-0600
TZOFFSETTO:-0500
RDATE:20230312T020000
RDATE:20240310T020000
END:DAYLIGHT
END:VTIMEZONE
BEGIN:VEVENT
UID:5ddf5882-245c-4cbf-bf38-ff615c2baef9
DTSTAMP:20260421T200050Z
DESCRIPTION:
DTSTART;TZID=America/Chicago:20221110T000000
DTEND;TZID=America/Chicago:20221110T235900
LOCATION:
SUMMARY:Registration for Holiday Assistance CLOSES
END:VEVENT
END:VCALENDAR
