BEGIN:VCALENDAR
VERSION:2.0
PRODID:-//birthparentsupportalliance.org//NONSGML kigkonsult.se iCalcreator
  2.30.10//
CALSCALE:GREGORIAN
METHOD:PUBLISH
UID:e1927e2a-dc1f-4e90-a11c-0e980b8f0ed6
X-WR-CALDESC:
X-WR-RELCALID:0f6e80acd3dc29869cfef8bd6e86f618
X-WR-TIMEZONE:America/Chicago
BEGIN:VTIMEZONE
TZID:America/Chicago
BEGIN:STANDARD
TZNAME:CST
DTSTART:20211107T020000
TZOFFSETFROM:-0500
TZOFFSETTO:-0600
RDATE:20221106T020000
RDATE:20231105T020000
END:STANDARD
BEGIN:DAYLIGHT
TZNAME:CDT
DTSTART:20220313T020000
TZOFFSETFROM:-0600
TZOFFSETTO:-0500
RDATE:20230312T020000
RDATE:20240310T020000
END:DAYLIGHT
END:VTIMEZONE
BEGIN:VEVENT
UID:1b57fa97-2d6d-4597-89d8-375af556fc9d
DTSTAMP:20260421T200034Z
DESCRIPTION:
DTSTART;TZID=America/Chicago:20221101T000000
DTEND;TZID=America/Chicago:20221101T235900
LOCATION:
SUMMARY:Holiday Assistance Applications Open
END:VEVENT
END:VCALENDAR
