BEGIN:VCALENDAR
VERSION:2.0
PRODID:-//birthparentsupportalliance.org//NONSGML kigkonsult.se iCalcreator
  2.30.10//
CALSCALE:GREGORIAN
METHOD:PUBLISH
UID:64d628ad-879f-4ed0-8f36-88a0076c0a52
X-WR-CALDESC:oin us on October 28th from 6-10PM at the Evanston Art Center 
 for Gather. The event will feature music by The CoverGirls\, elevated comf
 ort foods\, themed cocktails\, a silent auction\, and an amazing community
 .\n\nWe know that our community has grown beyond geographic boundaries and
  we are so thankful for that. Even so\, we are thrilled to be planning thi
 s event\, and welcome support from near and far. Funds raised by this even
 t are necessary in order to carry out our mission—providing post-placement
  services for birthparents and producing adoption education content that r
 eflects the lived experience of birthparents and adoptees.\n\n
X-WR-RELCALID:ab13a9110126a80ec5700e3bb8ea6a49
X-WR-TIMEZONE:America/Chicago
BEGIN:VTIMEZONE
TZID:America/Chicago
BEGIN:STANDARD
TZNAME:CST
DTSTART:20211107T020000
TZOFFSETFROM:-0500
TZOFFSETTO:-0600
RDATE:20221106T020000
RDATE:20231105T020000
END:STANDARD
BEGIN:DAYLIGHT
TZNAME:CDT
DTSTART:20220313T020000
TZOFFSETFROM:-0600
TZOFFSETTO:-0500
RDATE:20230312T020000
RDATE:20240310T020000
END:DAYLIGHT
END:VTIMEZONE
BEGIN:VEVENT
UID:9fe4ad30-1a4a-4d01-8491-46e664fe5596
DTSTAMP:20260421T213746Z
DESCRIPTION:oin us on October 28th from 6-10PM at the Evanston Art Center f
 or Gather. The event will feature music by The CoverGirls\, elevated comfo
 rt foods\, themed cocktails\, a silent auction\, and an amazing community.
 \n\nWe know that our community has grown beyond geographic boundaries and 
 we are so thankful for that. Even so\, we are thrilled to be planning this
  event\, and welcome support from near and far. Funds raised by this event
  are necessary in order to carry out our mission—providing post-placement 
 services for birthparents and producing adoption education content that re
 flects the lived experience of birthparents and adoptees.\n\n
DTSTART;TZID=America/Chicago:20221028T180000
DTEND;TZID=America/Chicago:20221028T220000
LOCATION:Evanston Art Center
SUMMARY:Gather
END:VEVENT
END:VCALENDAR
