BEGIN:VCALENDAR
VERSION:2.0
PRODID:-//birthparentsupportalliance.org//NONSGML kigkonsult.se iCalcreator
  2.30.10//
CALSCALE:GREGORIAN
METHOD:PUBLISH
UID:f08d7cf5-cd9d-42f4-b1de-fe88bd47bb38
X-WR-CALDESC:
X-WR-RELCALID:e145678247267caba49024ce7f1f0283
X-WR-TIMEZONE:America/Chicago
BEGIN:VTIMEZONE
TZID:America/Chicago
BEGIN:STANDARD
TZNAME:CST
DTSTART:20211107T020000
TZOFFSETFROM:-0500
TZOFFSETTO:-0600
RDATE:20221106T020000
RDATE:20231105T020000
END:STANDARD
BEGIN:DAYLIGHT
TZNAME:CDT
DTSTART:20220313T020000
TZOFFSETFROM:-0600
TZOFFSETTO:-0500
RDATE:20230312T020000
END:DAYLIGHT
END:VTIMEZONE
BEGIN:VEVENT
UID:f33c45b2-df4b-41bf-91b7-514e331cba47
DTSTAMP:20260422T005622Z
DESCRIPTION:
DTSTART;TZID=America/Chicago:20220815T000000
DTEND;TZID=America/Chicago:20220815T235900
LOCATION:
SUMMARY:Registration Closes for Create! arts grant
END:VEVENT
END:VCALENDAR
