BEGIN:VCALENDAR
VERSION:2.0
PRODID:-//birthparentsupportalliance.org//NONSGML kigkonsult.se iCalcreator
  2.30.10//
CALSCALE:GREGORIAN
METHOD:PUBLISH
UID:891d55d3-f33f-41d5-9f51-341c89b97bb7
X-WR-CALDESC:https://onyourfeetfoundation.org/birthparent-services/retreats
 -community.html
X-WR-RELCALID:2067fe97bd80839122681f74c0ce0b57
X-WR-TIMEZONE:America/Chicago
BEGIN:VTIMEZONE
TZID:America/Chicago
BEGIN:STANDARD
TZNAME:CST
DTSTART:20211107T020000
TZOFFSETFROM:-0500
TZOFFSETTO:-0600
RDATE:20221106T020000
RDATE:20231105T020000
END:STANDARD
BEGIN:DAYLIGHT
TZNAME:CDT
DTSTART:20220313T020000
TZOFFSETFROM:-0600
TZOFFSETTO:-0500
RDATE:20230312T020000
END:DAYLIGHT
END:VTIMEZONE
BEGIN:VEVENT
UID:1bb9cb57-7518-45c4-b0e8-9464dcc6b69c
DTSTAMP:20260422T010019Z
DESCRIPTION:https://onyourfeetfoundation.org/birthparent-services/retreats-
 community.html
DTSTART;TZID=America/Chicago:20220805T000000
DTEND;TZID=America/Chicago:20220805T235900
LOCATION:
SUMMARY:Fall In-Person Retreat Registration CLOSES
END:VEVENT
END:VCALENDAR
