BEGIN:VCALENDAR
VERSION:2.0
PRODID:-//birthparentsupportalliance.org//NONSGML kigkonsult.se iCalcreator
  2.30.10//
CALSCALE:GREGORIAN
METHOD:PUBLISH
UID:8786d1df-732c-40f5-bb97-8f4095957896
X-WR-CALDESC:
X-WR-RELCALID:17fdbc7a0a9ba384031ef5a4f35f9c9f
X-WR-TIMEZONE:America/Chicago
BEGIN:VTIMEZONE
TZID:America/Chicago
BEGIN:STANDARD
TZNAME:CST
DTSTART:20211107T020000
TZOFFSETFROM:-0500
TZOFFSETTO:-0600
RDATE:20221106T020000
RDATE:20231105T020000
END:STANDARD
BEGIN:DAYLIGHT
TZNAME:CDT
DTSTART:20220313T020000
TZOFFSETFROM:-0600
TZOFFSETTO:-0500
RDATE:20230312T020000
END:DAYLIGHT
END:VTIMEZONE
BEGIN:VEVENT
UID:14a26041-bcbd-4319-af17-0523f59bc23f
DTSTAMP:20260422T005459Z
DESCRIPTION:
DTSTART;TZID=America/Chicago:20220801T000000
DTEND;TZID=America/Chicago:20220801T235900
LOCATION:
SUMMARY:Registration Opens for 2022 Create! grant
END:VEVENT
END:VCALENDAR
