BEGIN:VCALENDAR
VERSION:2.0
PRODID:-//birthparentsupportalliance.org//NONSGML kigkonsult.se iCalcreator
  2.30.10//
CALSCALE:GREGORIAN
METHOD:PUBLISH
UID:7e1c8f96-da59-4849-a901-ed6b4c072c32
X-WR-CALDESC:
X-WR-RELCALID:99316a6081bdf69f67d6da4a8763f02e
X-WR-TIMEZONE:America/Chicago
BEGIN:VTIMEZONE
TZID:America/Chicago
BEGIN:STANDARD
TZNAME:CST
DTSTART:20211107T020000
TZOFFSETFROM:-0500
TZOFFSETTO:-0600
RDATE:20221106T020000
RDATE:20231105T020000
END:STANDARD
BEGIN:DAYLIGHT
TZNAME:CDT
DTSTART:20220313T020000
TZOFFSETFROM:-0600
TZOFFSETTO:-0500
RDATE:20230312T020000
END:DAYLIGHT
END:VTIMEZONE
BEGIN:VEVENT
UID:edcfa629-1a3d-43bd-9f65-779f959d9ed2
DTSTAMP:20260422T023354Z
DESCRIPTION:
DTSTART;TZID=America/Chicago:20220723T000000
DTEND;TZID=America/Chicago:20220723T235900
LOCATION:
SUMMARY:Closed/Reunion virtual retreat
END:VEVENT
END:VCALENDAR
