BEGIN:VCALENDAR
VERSION:2.0
PRODID:-//birthparentsupportalliance.org//NONSGML kigkonsult.se iCalcreator
  2.30.10//
CALSCALE:GREGORIAN
METHOD:PUBLISH
UID:e0ee157c-583e-4896-a89c-acc9973f3152
X-WR-CALDESC:The adult you are is a product of your brain and emotional dev
 elopment since conception.\n\nClemencia Deleon is a passionate advocate of
  humanity’s need to understand child and brain development\, emotional int
 elligence\, and treatment of traumatic life experiences. When we understan
 d this\, we are more fully able understand ourselves.\n\nClemencia's exper
 ience as a birth mother involved in a kinship adoption\, has given her a u
 nique and important perspective on trauma\, self-worth\, and the value of 
 clarity in communication. She has become dedicated to helping others know 
 their value\, the importance of having a clear understanding of their emot
 ions\, and how to access the best information necessary to make informed d
 ecisions about their life.\n\nBy educating others\, Clemencia is creating 
 a space for those who face barriers to starting/growing a family or facing
  pregnancy to make emotionally aware and informed decisions including fami
 ly preservation/choosing to parent\, terminating a pregnancy and adoption.
 \n
X-WR-RELCALID:b6cb387eba50e7e5c6ac59622a11da50
X-WR-TIMEZONE:America/Chicago
BEGIN:VTIMEZONE
TZID:America/Chicago
BEGIN:STANDARD
TZNAME:CST
DTSTART:20211107T020000
TZOFFSETFROM:-0500
TZOFFSETTO:-0600
RDATE:20221106T020000
RDATE:20231105T020000
END:STANDARD
BEGIN:DAYLIGHT
TZNAME:CDT
DTSTART:20220313T020000
TZOFFSETFROM:-0600
TZOFFSETTO:-0500
RDATE:20230312T020000
END:DAYLIGHT
END:VTIMEZONE
BEGIN:VEVENT
UID:861eeb9f-0a86-4000-aecf-7c1aa85f9cf5
DTSTAMP:20260422T024327Z
DESCRIPTION:The adult you are is a product of your brain and emotional deve
 lopment since conception.\n\nClemencia Deleon is a passionate advocate of 
 humanity’s need to understand child and brain development\, emotional inte
 lligence\, and treatment of traumatic life experiences. When we understand
  this\, we are more fully able understand ourselves.\n\nClemencia's experi
 ence as a birth mother involved in a kinship adoption\, has given her a un
 ique and important perspective on trauma\, self-worth\, and the value of c
 larity in communication. She has become dedicated to helping others know t
 heir value\, the importance of having a clear understanding of their emoti
 ons\, and how to access the best information necessary to make informed de
 cisions about their life.\n\nBy educating others\, Clemencia is creating a
  space for those who face barriers to starting/growing a family or facing 
 pregnancy to make emotionally aware and informed decisions including famil
 y preservation/choosing to parent\, terminating a pregnancy and adoption.
 \n
DTSTART;TZID=America/Chicago:20220706T120000
DTEND;TZID=America/Chicago:20220706T133000
LOCATION:https://onyourfeetfoundation.org/education-outreach/adoption-educa
 tion/activisim-in-adoption-registration.html
SUMMARY:Activism in Adoption
END:VEVENT
END:VCALENDAR
