BEGIN:VCALENDAR
VERSION:2.0
PRODID:-//birthparentsupportalliance.org//NONSGML kigkonsult.se iCalcreator
  2.30.10//
CALSCALE:GREGORIAN
METHOD:PUBLISH
UID:1e6a3224-372a-47ff-b3e9-0c514ad15dbf
X-WR-CALDESC:*2nd Thursday is a moderated call. All other Thursdays are an 
 open call that can be joined by any birthmom who would just like to chat w
 ith other birthmoms. Registration for the Thursday Connect Call is require
 d to participate.
X-WR-RELCALID:2f2d1def18b36e6a1335ad789d9bd087
X-WR-TIMEZONE:America/Chicago
BEGIN:VTIMEZONE
TZID:America/Chicago
BEGIN:STANDARD
TZNAME:CST
DTSTART:20211107T020000
TZOFFSETFROM:-0500
TZOFFSETTO:-0600
RDATE:20221106T020000
RDATE:20231105T020000
END:STANDARD
BEGIN:DAYLIGHT
TZNAME:CDT
DTSTART:20220313T020000
TZOFFSETFROM:-0600
TZOFFSETTO:-0500
RDATE:20230312T020000
END:DAYLIGHT
END:VTIMEZONE
BEGIN:VEVENT
UID:b20e803d-df00-435f-9f52-c01c3ab5bda4
DTSTAMP:20260422T042450Z
DESCRIPTION:*2nd Thursday is a moderated call. All other Thursdays are an o
 pen call that can be joined by any birthmom who would just like to chat wi
 th other birthmoms. Registration for the Thursday Connect Call is required
  to participate.
DTSTART;TZID=America/Chicago:20220630T200000
DTEND;TZID=America/Chicago:20220630T210000
LOCATION:
SUMMARY:BirthmomConnect OPEN Call
END:VEVENT
END:VCALENDAR
