BEGIN:VCALENDAR
VERSION:2.0
PRODID:-//birthparentsupportalliance.org//NONSGML kigkonsult.se iCalcreator
  2.30.10//
CALSCALE:GREGORIAN
METHOD:PUBLISH
UID:4cd9fe0f-b057-4bb2-a71a-eae2c634ad0f
X-WR-CALDESC:
X-WR-RELCALID:c17dc8d6681bf699e2b056461c4e8c2b
X-WR-TIMEZONE:America/Chicago
BEGIN:VTIMEZONE
TZID:America/Chicago
BEGIN:STANDARD
TZNAME:CST
DTSTART:20211107T020000
TZOFFSETFROM:-0500
TZOFFSETTO:-0600
RDATE:20221106T020000
RDATE:20231105T020000
END:STANDARD
BEGIN:DAYLIGHT
TZNAME:CDT
DTSTART:20220313T020000
TZOFFSETFROM:-0600
TZOFFSETTO:-0500
RDATE:20230312T020000
END:DAYLIGHT
END:VTIMEZONE
BEGIN:VEVENT
UID:ec048b53-8cd3-4b98-9424-78bd4164810e
DTSTAMP:20260422T055732Z
DESCRIPTION:
DTSTART;TZID=America/Chicago:20220513T000000
DTEND;TZID=America/Chicago:20220515T235900
LOCATION:
SUMMARY:Closed/Reunion in-person retreat
END:VEVENT
END:VCALENDAR
