BEGIN:VCALENDAR
VERSION:2.0
PRODID:-//birthparentsupportalliance.org//NONSGML kigkonsult.se iCalcreator
  2.30.10//
CALSCALE:GREGORIAN
METHOD:PUBLISH
UID:ff1df6e4-73f3-40b8-96b7-87802e71e1c6
X-WR-CALDESC:Join us on Saturday\, May 7th\, Birthmother's Day\, at the Ind
 ianapolis Art Center. On Your Feet Foundation is hosting Create!\, a commu
 nity art-making event and fundraiser celebrating motherhood. This gatherin
 g will be open to families and individuals from the adoption constellation
  as an opportunity to come together as a community. Art-making activities 
 will be led by board-certified art therapist\, Kristi Gmutza\, alongside a
  team of art therapy students with activities appropriate for all ages. Jo
 in us for delicious snacks\, projects to express your creativity\, and a r
 affle. Doors will open at noon and the event will conclude at 4:00PM. We l
 ook forward to seeing you!\n\nFor those who are unable to attend in person
 \, On Your Feet Foundation invites birthmothers and families to join in a 
 Virtual Family Art Day\, Family constellations can connect and create art 
 together no matter the physical distance. Attendees will receive art kits 
 including a variety of drawing and painting material. Ideas for inspiratio
 n and themes\, as well as demonstrations of art techniques\, will be provi
 ded via a pre-recorded presentation by Kristi Gmutza.\n\nAll ages welcome\
 , no artistic talent required.\n\nBirthmother's Day\n\nSaturday\, May 7th\
 , 2022\n\nNoon-4PM\n\nWHERE\n\nIndianapolis Art Center\n\n820 E 67th Stree
 t\n\nIndianapolis\, IN 46220
X-WR-RELCALID:e2e6cafae82fc8b38f6c197952410613
X-WR-TIMEZONE:America/Chicago
BEGIN:VTIMEZONE
TZID:America/Chicago
BEGIN:STANDARD
TZNAME:CST
DTSTART:20211107T020000
TZOFFSETFROM:-0500
TZOFFSETTO:-0600
RDATE:20221106T020000
RDATE:20231105T020000
END:STANDARD
BEGIN:DAYLIGHT
TZNAME:CDT
DTSTART:20220313T020000
TZOFFSETFROM:-0600
TZOFFSETTO:-0500
RDATE:20230312T020000
END:DAYLIGHT
END:VTIMEZONE
BEGIN:VEVENT
UID:4c1e6c43-b4be-41b3-b89b-726281651885
DTSTAMP:20260422T055432Z
DESCRIPTION:Join us on Saturday\, May 7th\, Birthmother's Day\, at the Indi
 anapolis Art Center. On Your Feet Foundation is hosting Create!\, a commun
 ity art-making event and fundraiser celebrating motherhood. This gathering
  will be open to families and individuals from the adoption constellation 
 as an opportunity to come together as a community. Art-making activities w
 ill be led by board-certified art therapist\, Kristi Gmutza\, alongside a 
 team of art therapy students with activities appropriate for all ages. Joi
 n us for delicious snacks\, projects to express your creativity\, and a ra
 ffle. Doors will open at noon and the event will conclude at 4:00PM. We lo
 ok forward to seeing you!\n\nFor those who are unable to attend in person\
 , On Your Feet Foundation invites birthmothers and families to join in a V
 irtual Family Art Day\, Family constellations can connect and create art t
 ogether no matter the physical distance. Attendees will receive art kits i
 ncluding a variety of drawing and painting material. Ideas for inspiration
  and themes\, as well as demonstrations of art techniques\, will be provid
 ed via a pre-recorded presentation by Kristi Gmutza.\n\nAll ages welcome\,
  no artistic talent required.\n\nBirthmother's Day\n\nSaturday\, May 7th\,
  2022\n\nNoon-4PM\n\nWHERE\n\nIndianapolis Art Center\n\n820 E 67th Street
 \n\nIndianapolis\, IN 46220
DTSTART;TZID=America/Chicago:20220507T120000
DTEND;TZID=America/Chicago:20220507T160000
LOCATION:
SUMMARY:Create! Art Making Event
END:VEVENT
END:VCALENDAR
