BEGIN:VCALENDAR
VERSION:2.0
PRODID:-//birthparentsupportalliance.org//NONSGML kigkonsult.se iCalcreator
  2.30.10//
CALSCALE:GREGORIAN
METHOD:PUBLISH
UID:7ae8d690-dd3a-4091-b83d-2fd4abc8f1f8
X-WR-CALDESC:
X-WR-RELCALID:a96a44a8d76fd5fa71665cd5ffcf3f6d
X-WR-TIMEZONE:America/Chicago
BEGIN:VTIMEZONE
TZID:America/Chicago
BEGIN:STANDARD
TZNAME:CST
DTSTART:20211107T020000
TZOFFSETFROM:-0500
TZOFFSETTO:-0600
RDATE:20221106T020000
END:STANDARD
BEGIN:DAYLIGHT
TZNAME:CDT
DTSTART:20220313T020000
TZOFFSETFROM:-0600
TZOFFSETTO:-0500
RDATE:20230312T020000
END:DAYLIGHT
END:VTIMEZONE
BEGIN:VEVENT
UID:91d9e3a0-ba05-4e1a-9fe7-85342d426d3e
DTSTAMP:20260422T073411Z
DESCRIPTION:
DTSTART;TZID=America/Chicago:20220423T000000
DTEND;TZID=America/Chicago:20220423T235900
LOCATION:
SUMMARY:Spring Virtual Retreat
END:VEVENT
END:VCALENDAR
