BEGIN:VCALENDAR
VERSION:2.0
PRODID:-//birthparentsupportalliance.org//NONSGML kigkonsult.se iCalcreator
  2.30.10//
CALSCALE:GREGORIAN
METHOD:PUBLISH
UID:bea47f3b-c34c-4e07-9fe1-90871ccbdfa6
X-WR-CALDESC:In-Person | March 11-13 | Registration opens December 31st and
  closes January 14th
X-WR-RELCALID:dd60430ce41148cbf44fa8c1fc82c1c5
X-WR-TIMEZONE:America/Chicago
BEGIN:VTIMEZONE
TZID:America/Chicago
BEGIN:STANDARD
TZNAME:CST
DTSTART:20211107T020000
TZOFFSETFROM:-0500
TZOFFSETTO:-0600
RDATE:20221106T020000
END:STANDARD
BEGIN:DAYLIGHT
TZNAME:CDT
DTSTART:20210314T020000
TZOFFSETFROM:-0600
TZOFFSETTO:-0500
RDATE:20220313T020000
RDATE:20230312T020000
END:DAYLIGHT
END:VTIMEZONE
BEGIN:VEVENT
UID:4e834cf9-55fb-4fe0-9c1b-2ac97db67c0f
DTSTAMP:20260422T091751Z
DESCRIPTION:In-Person | March 11-13 | Registration opens December 31st and 
 closes January 14th
DTSTART;TZID=America/Chicago:20220311T000000
DTEND;TZID=America/Chicago:20220313T235900
LOCATION:
SUMMARY:Spring in-person retreat
END:VEVENT
END:VCALENDAR
