BEGIN:VCALENDAR
VERSION:2.0
PRODID:-//birthparentsupportalliance.org//NONSGML kigkonsult.se iCalcreator
  2.30.10//
CALSCALE:GREGORIAN
METHOD:PUBLISH
UID:f7503d70-a5a0-4c23-9a03-193ca0f665ce
X-WR-CALDESC:https://onyourfeetfoundation.org/birthparent-services/retreats
 -community.html
X-WR-RELCALID:3ed7d8f00c0b3208436551d0ea1c8d5c
X-WR-TIMEZONE:America/Chicago
BEGIN:VTIMEZONE
TZID:America/Chicago
BEGIN:STANDARD
TZNAME:CST
DTSTART:20211107T020000
TZOFFSETFROM:-0500
TZOFFSETTO:-0600
RDATE:20221106T020000
END:STANDARD
BEGIN:DAYLIGHT
TZNAME:CDT
DTSTART:20210314T020000
TZOFFSETFROM:-0600
TZOFFSETTO:-0500
RDATE:20220313T020000
RDATE:20230312T020000
END:DAYLIGHT
END:VTIMEZONE
BEGIN:VEVENT
UID:13008b2f-a690-434e-a9cd-58d4d889ea68
DTSTAMP:20260422T091918Z
DESCRIPTION:https://onyourfeetfoundation.org/birthparent-services/retreats-
 community.html
DTSTART;TZID=America/Chicago:20220304T180000
DTEND;TZID=America/Chicago:20220304T190000
LOCATION:
SUMMARY:Closed/Reunion in-person retreat registration OPENS
END:VEVENT
END:VCALENDAR
