BEGIN:VCALENDAR
VERSION:2.0
PRODID:-//birthparentsupportalliance.org//NONSGML kigkonsult.se iCalcreator
  2.30.10//
CALSCALE:GREGORIAN
METHOD:PUBLISH
UID:d357b51a-40a5-45b6-88e3-a67004d25649
X-WR-CALDESC:The deadline for registration for the virtual spring retreat (
 held April 23rd) is March 15\, 2022.
X-WR-RELCALID:0c95c5e68670c0ec24ddc2c40b18ef90
X-WR-TIMEZONE:America/Chicago
BEGIN:VTIMEZONE
TZID:America/Chicago
BEGIN:STANDARD
TZNAME:CST
DTSTART:20211107T020000
TZOFFSETFROM:-0500
TZOFFSETTO:-0600
RDATE:20221106T020000
END:STANDARD
BEGIN:DAYLIGHT
TZNAME:CDT
DTSTART:20210314T020000
TZOFFSETFROM:-0600
TZOFFSETTO:-0500
RDATE:20220313T020000
RDATE:20230312T020000
END:DAYLIGHT
END:VTIMEZONE
BEGIN:VEVENT
UID:38a39d50-6a0a-4cb5-95a1-d39a26644c68
DTSTAMP:20260422T105055Z
DESCRIPTION:The deadline for registration for the virtual spring retreat (h
 eld April 23rd) is March 15\, 2022.
DTSTART;TZID=America/Chicago:20220225T000000
DTEND;TZID=America/Chicago:20220225T235900
LOCATION:
SUMMARY:Registration Closes for Virtual Spring Retreat
END:VEVENT
END:VCALENDAR
