BEGIN:VCALENDAR
VERSION:2.0
PRODID:-//birthparentsupportalliance.org//NONSGML kigkonsult.se iCalcreator
  2.30.10//
CALSCALE:GREGORIAN
METHOD:PUBLISH
UID:abbf6546-b9a7-435b-9b34-5dab440fdd27
X-WR-CALDESC:An opportunity for non-agency affiliated professionals working
  within the adoption landscape to share ideas and resources so that we may
  work together to help improve experiences and outcomes for all members of
  the adoption constellation.
X-WR-RELCALID:0e074c04eb4e841bfecb70dfeb4deb0d
X-WR-TIMEZONE:America/Chicago
BEGIN:VTIMEZONE
TZID:America/Chicago
BEGIN:STANDARD
TZNAME:CST
DTSTART:20211107T020000
TZOFFSETFROM:-0500
TZOFFSETTO:-0600
RDATE:20221106T020000
END:STANDARD
BEGIN:DAYLIGHT
TZNAME:CDT
DTSTART:20210314T020000
TZOFFSETFROM:-0600
TZOFFSETTO:-0500
RDATE:20220313T020000
RDATE:20230312T020000
END:DAYLIGHT
END:VTIMEZONE
BEGIN:VEVENT
UID:ff8ceae0-b727-4d5f-a9f2-75b153c10e25
DTSTAMP:20260422T120924Z
DESCRIPTION:An opportunity for non-agency affiliated professionals working 
 within the adoption landscape to share ideas and resources so that we may 
 work together to help improve experiences and outcomes for all members of 
 the adoption constellation.
DTSTART;TZID=America/Chicago:20220127T100000
DTEND;TZID=America/Chicago:20220127T113000
LOCATION:
SUMMARY:Non_agency Affiliated Adoption Professionals Networking Meeting
END:VEVENT
END:VCALENDAR
