BEGIN:VCALENDAR
VERSION:2.0
PRODID:-//birthparentsupportalliance.org//NONSGML kigkonsult.se iCalcreator
  2.30.10//
CALSCALE:GREGORIAN
METHOD:PUBLISH
UID:5df22e9f-b07d-492d-8883-3d2e6743c0e4
X-WR-CALDESC:Details and Registration information coming soon. Save the dat
 e!
X-WR-RELCALID:660edb83ba0137d82c04dbd243055b52
X-WR-TIMEZONE:America/Chicago
BEGIN:VTIMEZONE
TZID:America/Chicago
BEGIN:STANDARD
TZNAME:CST
DTSTART:20211107T020000
TZOFFSETFROM:-0500
TZOFFSETTO:-0600
RDATE:20221106T020000
END:STANDARD
BEGIN:DAYLIGHT
TZNAME:CDT
DTSTART:20210314T020000
TZOFFSETFROM:-0600
TZOFFSETTO:-0500
RDATE:20220313T020000
RDATE:20230312T020000
END:DAYLIGHT
END:VTIMEZONE
BEGIN:VEVENT
UID:3cb528f2-2638-43c4-a195-6544aef6dba4
DTSTAMP:20260422T120849Z
DESCRIPTION:Details and Registration information coming soon. Save the date
 !
DTSTART;TZID=America/Chicago:20220120T200000
DTEND;TZID=America/Chicago:20220120T213000
LOCATION:
SUMMARY:Annual Vision Board Event
END:VEVENT
END:VCALENDAR
