BEGIN:VCALENDAR
VERSION:2.0
PRODID:-//birthparentsupportalliance.org//NONSGML kigkonsult.se iCalcreator
  2.30.10//
CALSCALE:GREGORIAN
METHOD:PUBLISH
UID:86741048-4beb-4630-80a4-bd43d888413a
X-WR-CALDESC:
X-WR-RELCALID:9de9536c88297ce54f65ce78e29e386a
X-WR-TIMEZONE:America/Chicago
BEGIN:VTIMEZONE
TZID:America/Chicago
BEGIN:STANDARD
TZNAME:CST
DTSTART:20211107T020000
TZOFFSETFROM:-0500
TZOFFSETTO:-0600
RDATE:20221106T020000
END:STANDARD
BEGIN:DAYLIGHT
TZNAME:CDT
DTSTART:20210314T020000
TZOFFSETFROM:-0600
TZOFFSETTO:-0500
RDATE:20220313T020000
RDATE:20230312T020000
END:DAYLIGHT
END:VTIMEZONE
BEGIN:VEVENT
UID:13c3d82d-0859-440b-a4b0-f7e3aaecfb1c
DTSTAMP:20260422T120849Z
DESCRIPTION:
DTSTART;TZID=America/Chicago:20220115T000000
DTEND;TZID=America/Chicago:20220115T235900
LOCATION:
SUMMARY:Mentor Program Registration CLOSES
END:VEVENT
END:VCALENDAR
