BEGIN:VCALENDAR
VERSION:2.0
PRODID:-//birthparentsupportalliance.org//NONSGML kigkonsult.se iCalcreator
  2.30.10//
CALSCALE:GREGORIAN
METHOD:PUBLISH
UID:5c494398-5947-4ddd-a8c1-62f69df16795
X-WR-CALDESC:
X-WR-RELCALID:f1cdb87a13f828e7b82e2caed2f7683f
X-WR-TIMEZONE:America/Chicago
BEGIN:VTIMEZONE
TZID:America/Chicago
BEGIN:STANDARD
TZNAME:CST
DTSTART:20211107T020000
TZOFFSETFROM:-0500
TZOFFSETTO:-0600
RDATE:20221106T020000
END:STANDARD
BEGIN:DAYLIGHT
TZNAME:CDT
DTSTART:20210314T020000
TZOFFSETFROM:-0600
TZOFFSETTO:-0500
RDATE:20220313T020000
RDATE:20230312T020000
END:DAYLIGHT
END:VTIMEZONE
BEGIN:VEVENT
UID:4c795116-82fe-46eb-aa64-f5de29c53809
DTSTAMP:20260422T121022Z
DESCRIPTION:
DTSTART;TZID=America/Chicago:20220114T173000
DTEND;TZID=America/Chicago:20220114T183000
LOCATION:
SUMMARY:Spring in-person retreat registration CLOSES
END:VEVENT
END:VCALENDAR
