BEGIN:VCALENDAR
VERSION:2.0
PRODID:-//birthparentsupportalliance.org//NONSGML kigkonsult.se iCalcreator
  2.30.10//
CALSCALE:GREGORIAN
METHOD:PUBLISH
UID:a519ccc3-2f19-41b3-b129-5cb06ca7a203
X-WR-CALDESC:
X-WR-RELCALID:6c7e9f28c07adc04ff06ec63012b9301
X-WR-TIMEZONE:America/Chicago
BEGIN:VTIMEZONE
TZID:America/Chicago
BEGIN:STANDARD
TZNAME:CST
DTSTART:20211107T020000
TZOFFSETFROM:-0500
TZOFFSETTO:-0600
RDATE:20221106T020000
END:STANDARD
BEGIN:DAYLIGHT
TZNAME:CDT
DTSTART:20210314T020000
TZOFFSETFROM:-0600
TZOFFSETTO:-0500
RDATE:20220313T020000
RDATE:20230312T020000
END:DAYLIGHT
END:VTIMEZONE
BEGIN:VEVENT
UID:2842ece1-f544-47e8-a439-6186f4e3437c
DTSTAMP:20260422T132609Z
DESCRIPTION:
DTSTART;TZID=America/Chicago:20211231T000000
DTEND;TZID=America/Chicago:20211231T235900
LOCATION:
SUMMARY:Registration Opens for Spring In-Person Retreat
END:VEVENT
END:VCALENDAR
