BEGIN:VCALENDAR
VERSION:2.0
PRODID:-//birthparentsupportalliance.org//NONSGML kigkonsult.se iCalcreator
  2.30.10//
CALSCALE:GREGORIAN
METHOD:PUBLISH
UID:5c639f12-2e07-405d-9981-71e90f89c218
X-WR-CALDESC:Register here: https://onyourfeetfoundation.org/birthparent-se
 rvices/2021-holiday-party.html
X-WR-RELCALID:77514b1c81e7350dd39b6c1fd8db0792
X-WR-TIMEZONE:America/Chicago
BEGIN:VTIMEZONE
TZID:America/Chicago
BEGIN:STANDARD
TZNAME:CST
DTSTART:20211107T020000
TZOFFSETFROM:-0500
TZOFFSETTO:-0600
RDATE:20221106T020000
END:STANDARD
BEGIN:DAYLIGHT
TZNAME:CDT
DTSTART:20210314T020000
TZOFFSETFROM:-0600
TZOFFSETTO:-0500
RDATE:20220313T020000
RDATE:20230312T020000
END:DAYLIGHT
END:VTIMEZONE
BEGIN:VEVENT
UID:7368f7b2-862e-4fe5-8066-f004db1771e0
DTSTAMP:20260422T132617Z
DESCRIPTION:Register here: https://onyourfeetfoundation.org/birthparent-ser
 vices/2021-holiday-party.html
DTSTART;TZID=America/Chicago:20211209T200000
DTEND;TZID=America/Chicago:20211209T210000
LOCATION:
SUMMARY:Holiday Party
END:VEVENT
END:VCALENDAR
