BEGIN:VCALENDAR
VERSION:2.0
PRODID:-//birthparentsupportalliance.org//NONSGML kigkonsult.se iCalcreator
  2.30.10//
CALSCALE:GREGORIAN
METHOD:PUBLISH
UID:e405e1c5-9e0f-4db5-a3f0-9a30e7e1985c
X-WR-CALDESC:Lessons From The Life \n\nMy white mother had an affair with a
  black co-worker in Detroit in the late 60's.  Soon after\, I was adopted 
 by a white family and from this unique beginning my purpose was born.  I w
 as genetically engineered to create hope and positivity around our differe
 nces.  In this 90 minute presentation I share about the many lessons I hav
 e learned from Growing Up Black In White.\n\n
X-WR-RELCALID:77f301b2454d92cb0b703c4c1f30a2f8
X-WR-TIMEZONE:America/Chicago
BEGIN:VTIMEZONE
TZID:America/Chicago
BEGIN:STANDARD
TZNAME:CST
DTSTART:20211107T020000
TZOFFSETFROM:-0500
TZOFFSETTO:-0600
RDATE:20221106T020000
END:STANDARD
BEGIN:DAYLIGHT
TZNAME:CDT
DTSTART:20210314T020000
TZOFFSETFROM:-0600
TZOFFSETTO:-0500
RDATE:20220313T020000
RDATE:20230312T020000
END:DAYLIGHT
END:VTIMEZONE
BEGIN:VEVENT
UID:1f4eed84-6cbf-40d6-b6d0-d8945cf62d48
DTSTAMP:20260422T145526Z
DESCRIPTION:Lessons From The Life \n\nMy white mother had an affair with a 
 black co-worker in Detroit in the late 60's.  Soon after\, I was adopted b
 y a white family and from this unique beginning my purpose was born.  I wa
 s genetically engineered to create hope and positivity around our differen
 ces.  In this 90 minute presentation I share about the many lessons I have
  learned from Growing Up Black In White.\n\n
DTSTART;TZID=America/Chicago:20211117T110000
DTEND;TZID=America/Chicago:20211117T123000
LOCATION:https://onyourfeetfoundation.org/education-outreach/adoption-educa
 tion/activisim-in-adoption-registration.html
SUMMARY:Activism in Adoption with Kevin Hofmann
END:VEVENT
END:VCALENDAR
