BEGIN:VCALENDAR
VERSION:2.0
PRODID:-//birthparentsupportalliance.org//NONSGML kigkonsult.se iCalcreator
  2.30.10//
CALSCALE:GREGORIAN
METHOD:PUBLISH
UID:dd93066b-0dee-46ea-9210-72c5e2ae2613
X-WR-CALDESC:On Saturday\, November 13th\, we wrap up our week of celebrati
 ng by coming together as triad members\, advocates and allies\; as birthpa
 rents\, adoptees\, adoption professionals and adoptive parents. Together\,
  we will join in conversation and meditation. We will listen and we will h
 ear each other. We will share space. We will breathe.\n\nJoin us for this 
 one hour Zoom. Prioritize yourself by dedicating some time to self-care in
  advance of the holidays.\n\nThis is a unique opportunity to hear from bir
 thmoms and ask questions in a safe space.\n\nRegistration is free.\n\nDeta
 ils:\nSaturday\, November 13th\n11AM CST | 12PM EST | 9AM PST\nvia Zoom
X-WR-RELCALID:a2e5fea2c5a7456fc642df12c2a85482
X-WR-TIMEZONE:America/Chicago
BEGIN:VTIMEZONE
TZID:America/Chicago
BEGIN:STANDARD
TZNAME:CST
DTSTART:20211107T020000
TZOFFSETFROM:-0500
TZOFFSETTO:-0600
RDATE:20221106T020000
END:STANDARD
BEGIN:DAYLIGHT
TZNAME:CDT
DTSTART:20210314T020000
TZOFFSETFROM:-0600
TZOFFSETTO:-0500
RDATE:20220313T020000
RDATE:20230312T020000
END:DAYLIGHT
END:VTIMEZONE
BEGIN:VEVENT
UID:84b2624e-4a8c-4773-91e3-ebe3cf3cf358
DTSTAMP:20260422T145520Z
DESCRIPTION:On Saturday\, November 13th\, we wrap up our week of celebratin
 g by coming together as triad members\, advocates and allies\; as birthpar
 ents\, adoptees\, adoption professionals and adoptive parents. Together\, 
 we will join in conversation and meditation. We will listen and we will he
 ar each other. We will share space. We will breathe.\n\nJoin us for this o
 ne hour Zoom. Prioritize yourself by dedicating some time to self-care in 
 advance of the holidays.\n\nThis is a unique opportunity to hear from birt
 hmoms and ask questions in a safe space.\n\nRegistration is free.\n\nDetai
 ls:\nSaturday\, November 13th\n11AM CST | 12PM EST | 9AM PST\nvia Zoom
DTSTART;TZID=America/Chicago:20211113T110000
DTEND;TZID=America/Chicago:20211113T120000
LOCATION:Zoom
SUMMARY:Gather for Triad Together: A Virtual Celebration of 20 years of ser
 vice
END:VEVENT
END:VCALENDAR
