BEGIN:VCALENDAR
VERSION:2.0
PRODID:-//birthparentsupportalliance.org//NONSGML kigkonsult.se iCalcreator
  2.30.10//
CALSCALE:GREGORIAN
METHOD:PUBLISH
UID:c13a9bdd-5dd0-4300-b69d-a00fd8bd99d9
X-WR-CALDESC:Support On Your Feet Foundation through its 20th anniversary v
 irtual silent auction.
X-WR-RELCALID:bbaebe34af38f3b6e9d05a5e67a9abc8
X-WR-TIMEZONE:America/Chicago
BEGIN:VTIMEZONE
TZID:America/Chicago
BEGIN:STANDARD
TZNAME:CST
DTSTART:20211107T020000
TZOFFSETFROM:-0500
TZOFFSETTO:-0600
RDATE:20221106T020000
END:STANDARD
BEGIN:DAYLIGHT
TZNAME:CDT
DTSTART:20210314T020000
TZOFFSETFROM:-0600
TZOFFSETTO:-0500
RDATE:20220313T020000
RDATE:20230312T020000
END:DAYLIGHT
END:VTIMEZONE
BEGIN:VEVENT
UID:4a4215e8-35e7-471f-9441-6dfab9eb9ce5
DTSTAMP:20260422T144929Z
DESCRIPTION:Support On Your Feet Foundation through its 20th anniversary vi
 rtual silent auction.
DTSTART;TZID=America/Chicago:20211110T193000
DTEND;TZID=America/Chicago:20211113T190000
LOCATION:https://onyourfeetfoundation.org/20th-anniversary/schedule-of-even
 ts.html
SUMMARY:Virtual Silent Auction
END:VEVENT
END:VCALENDAR
