BEGIN:VCALENDAR
VERSION:2.0
PRODID:-//birthparentsupportalliance.org//NONSGML kigkonsult.se iCalcreator
  2.30.10//
CALSCALE:GREGORIAN
METHOD:PUBLISH
UID:5c792fde-2c1f-4e19-8b94-0d467a1bfe4e
X-WR-CALDESC:Save the date for November 6\, 2021 to celebrate On Your Feet 
 Foundation's 20th anniversary! Stay tuned for details on our week-long cel
 ebration kicking off with an outdoor\, in-person event on Saturday\, Novem
 ber 6th.
X-WR-RELCALID:7c719a30f54227fbb5e01550213c36de
X-WR-TIMEZONE:America/Chicago
BEGIN:VTIMEZONE
TZID:America/Chicago
BEGIN:STANDARD
TZNAME:CST
DTSTART:20211107T020000
TZOFFSETFROM:-0500
TZOFFSETTO:-0600
RDATE:20221106T020000
END:STANDARD
BEGIN:DAYLIGHT
TZNAME:CDT
DTSTART:20210314T020000
TZOFFSETFROM:-0600
TZOFFSETTO:-0500
RDATE:20220313T020000
RDATE:20230312T020000
END:DAYLIGHT
END:VTIMEZONE
BEGIN:VEVENT
UID:c0f1a04e-f0b8-4c2b-bfac-b640e8c3b72e
DTSTAMP:20260422T144928Z
DESCRIPTION:Save the date for November 6\, 2021 to celebrate On Your Feet F
 oundation's 20th anniversary! Stay tuned for details on our week-long cele
 bration kicking off with an outdoor\, in-person event on Saturday\, Novemb
 er 6th.
DTSTART;TZID=America/Chicago:20211106T170000
DTEND;TZID=America/Chicago:20211106T220000
LOCATION:Event address will be shared with ticketholders.
SUMMARY:Gather\, a 20th anniversary celebration and fundraiser
END:VEVENT
END:VCALENDAR
