BEGIN:VCALENDAR
VERSION:2.0
PRODID:-//birthparentsupportalliance.org//NONSGML kigkonsult.se iCalcreator
  2.30.10//
CALSCALE:GREGORIAN
METHOD:PUBLISH
UID:48ac0a05-0a42-4a4d-aa19-ba0daff05e59
X-WR-CALDESC:Through reflecting on the theater piece\, Placing Home\, which
  centers birth mother’s stories\, Katy unpacks the powerful role adoptive 
 mothers can play in shifting the pervasive adoption narrative. Katy will s
 peak about her own journey in understanding why this matters and how prosp
 ective adoptive parents and adoptive parents can take clear actions toward
 s shifting the power dynamic in the adoption triad.
X-WR-RELCALID:e666efc13f7bd82fa0b474e8a16c52ac
X-WR-TIMEZONE:America/Chicago
BEGIN:VTIMEZONE
TZID:America/Chicago
BEGIN:STANDARD
TZNAME:CST
DTSTART:20201101T020000
TZOFFSETFROM:-0500
TZOFFSETTO:-0600
RDATE:20211107T020000
RDATE:20221106T020000
END:STANDARD
BEGIN:DAYLIGHT
TZNAME:CDT
DTSTART:20210314T020000
TZOFFSETFROM:-0600
TZOFFSETTO:-0500
RDATE:20220313T020000
RDATE:20230312T020000
END:DAYLIGHT
END:VTIMEZONE
BEGIN:VEVENT
UID:0b5ef3ce-993d-4bee-a612-ddcbdda57d82
DTSTAMP:20260422T161507Z
DESCRIPTION:Through reflecting on the theater piece\, Placing Home\, which 
 centers birth mother’s stories\, Katy unpacks the powerful role adoptive m
 others can play in shifting the pervasive adoption narrative. Katy will sp
 eak about her own journey in understanding why this matters and how prospe
 ctive adoptive parents and adoptive parents can take clear actions towards
  shifting the power dynamic in the adoption triad.
DTSTART;TZID=America/Chicago:20211027T110000
DTEND;TZID=America/Chicago:20211027T123000
LOCATION:https://onyourfeetfoundation.org/education-outreach/adoption-educa
 tion/activisim-in-adoption-registration.html
SUMMARY:Activism in Adoption\,Shifting the Adoption Narrative: The Role and
  Power of Adoptive Mothers
END:VEVENT
END:VCALENDAR
