BEGIN:VCALENDAR
VERSION:2.0
PRODID:-//birthparentsupportalliance.org//NONSGML kigkonsult.se iCalcreator
  2.30.10//
CALSCALE:GREGORIAN
METHOD:PUBLISH
UID:3df451e9-e99b-4601-8285-4eb6afcda87c
X-WR-CALDESC:Words have power\, they can heal and give hope. We invite you 
 to save the date for October 17th\, 5pm cst to share some words\, either o
 nes you've heard or ones you've written. These words can include poetry\, 
 favorite quotes or excerpts from books\, song lyrics that have a special m
 eaning to you.\nMore details to come!\nThis will be a virtual event
X-WR-RELCALID:ee9aa8d49d4245a6b8ff791ea0fe9353
X-WR-TIMEZONE:America/Chicago
BEGIN:VTIMEZONE
TZID:America/Chicago
BEGIN:STANDARD
TZNAME:CST
DTSTART:20201101T020000
TZOFFSETFROM:-0500
TZOFFSETTO:-0600
RDATE:20211107T020000
RDATE:20221106T020000
END:STANDARD
BEGIN:DAYLIGHT
TZNAME:CDT
DTSTART:20210314T020000
TZOFFSETFROM:-0600
TZOFFSETTO:-0500
RDATE:20220313T020000
RDATE:20230312T020000
END:DAYLIGHT
END:VTIMEZONE
BEGIN:VEVENT
UID:c56e82b9-1d92-4977-8189-0b8a14c2a903
DTSTAMP:20260422T161416Z
DESCRIPTION:Words have power\, they can heal and give hope. We invite you t
 o save the date for October 17th\, 5pm cst to share some words\, either on
 es you've heard or ones you've written. These words can include poetry\, f
 avorite quotes or excerpts from books\, song lyrics that have a special me
 aning to you.\nMore details to come!\nThis will be a virtual event
DTSTART;TZID=America/Chicago:20211017T170000
DTEND;TZID=America/Chicago:20211017T180000
LOCATION:
SUMMARY:Power of the Spoken Word: an open mic night
END:VEVENT
END:VCALENDAR
