BEGIN:VCALENDAR
VERSION:2.0
PRODID:-//birthparentsupportalliance.org//NONSGML kigkonsult.se iCalcreator
  2.30.10//
CALSCALE:GREGORIAN
METHOD:PUBLISH
UID:215d683d-f566-4f41-87cb-e77ca960858c
X-WR-CALDESC:In the adoption community\, we hear a lot about preparing for 
 openness in the early years of the adoptees life. But what does the relati
 onship look like when the adoptee becomes a teen or an adult? How do we pr
 epare for a healthy open relationship through those years?\n\nJoin two sea
 soned birthmothers\, Vicki Twomey and Jessica Figlio who have each experie
 nced over 20 years of openness in adoption as they share their stories. Th
 eir met and unmet expectations\, challenges faced\, and growth experienced
  over the years. Learn what it means to grow with an adoptee child in an o
 pen adoption alongside their parents and build lasting\, healthy relations
 hips.
X-WR-RELCALID:048896a76f4e7bc11be14d364dc12856
X-WR-TIMEZONE:America/Chicago
BEGIN:VTIMEZONE
TZID:America/Chicago
BEGIN:STANDARD
TZNAME:CST
DTSTART:20201101T020000
TZOFFSETFROM:-0500
TZOFFSETTO:-0600
RDATE:20211107T020000
RDATE:20221106T020000
END:STANDARD
BEGIN:DAYLIGHT
TZNAME:CDT
DTSTART:20210314T020000
TZOFFSETFROM:-0600
TZOFFSETTO:-0500
RDATE:20220313T020000
RDATE:20230312T020000
END:DAYLIGHT
END:VTIMEZONE
BEGIN:VEVENT
UID:65ab9b3e-69d9-49a1-9b72-3da75d615a7c
DTSTAMP:20260422T162021Z
DESCRIPTION:In the adoption community\, we hear a lot about preparing for o
 penness in the early years of the adoptees life. But what does the relatio
 nship look like when the adoptee becomes a teen or an adult? How do we pre
 pare for a healthy open relationship through those years?\n\nJoin two seas
 oned birthmothers\, Vicki Twomey and Jessica Figlio who have each experien
 ced over 20 years of openness in adoption as they share their stories. The
 ir met and unmet expectations\, challenges faced\, and growth experienced 
 over the years. Learn what it means to grow with an adoptee child in an op
 en adoption alongside their parents and build lasting\, healthy relationsh
 ips.
DTSTART;TZID=America/Chicago:20211017T140000
DTEND;TZID=America/Chicago:20211017T153000
LOCATION:
SUMMARY:Activism in Adoption\,Beyond the Early Years: Growing with Our Adop
 tee Children
END:VEVENT
END:VCALENDAR
