BEGIN:VCALENDAR
VERSION:2.0
PRODID:-//birthparentsupportalliance.org//NONSGML kigkonsult.se iCalcreator
  2.30.10//
CALSCALE:GREGORIAN
METHOD:PUBLISH
UID:c67373f6-ca2f-450c-b914-7dfd82b27f5c
X-WR-CALDESC:This event is for anyone who has had a child placed for adopti
 on\, whether the placement was recent or long ago. Join us for a day of co
 nnection and support. Activities will be centered around a theme of healin
 g and self-care and will also include some fun crafts like making essentia
 l oil roller balls and bath salts.\n\nFeel free to bring along a support p
 erson.\n\nLunch will be catered by Wilderness Resort.\n\nLocation: Glacier
  Canyon Conference Center at the Wilderness Resort in Wisconsin Dells http
 s://www.wildernessresort.com/glacier-canyon-lodge/groups-meetings/\n\nRegi
 ster here on Eventbrite OR by emailing or calling Jen Layton: jlayton@ccmk
 e.org or 414-771-2881 x4167. Registration deadline is 9/24/2021. Any quest
 ions? Please contact Jen Layton.
X-WR-RELCALID:cd6eff0b8313ada65fd767d39029e457
X-WR-TIMEZONE:America/Chicago
BEGIN:VTIMEZONE
TZID:America/Chicago
BEGIN:STANDARD
TZNAME:CST
DTSTART:20201101T020000
TZOFFSETFROM:-0500
TZOFFSETTO:-0600
RDATE:20211107T020000
RDATE:20221106T020000
END:STANDARD
BEGIN:DAYLIGHT
TZNAME:CDT
DTSTART:20210314T020000
TZOFFSETFROM:-0600
TZOFFSETTO:-0500
RDATE:20220313T020000
RDATE:20230312T020000
END:DAYLIGHT
END:VTIMEZONE
BEGIN:VEVENT
UID:299e216a-3325-4515-8fc6-bc729b6855da
DTSTAMP:20260422T161909Z
DESCRIPTION:This event is for anyone who has had a child placed for adoptio
 n\, whether the placement was recent or long ago. Join us for a day of con
 nection and support. Activities will be centered around a theme of healing
  and self-care and will also include some fun crafts like making essential
  oil roller balls and bath salts.\n\nFeel free to bring along a support pe
 rson.\n\nLunch will be catered by Wilderness Resort.\n\nLocation: Glacier 
 Canyon Conference Center at the Wilderness Resort in Wisconsin Dells https
 ://www.wildernessresort.com/glacier-canyon-lodge/groups-meetings/\n\nRegis
 ter here on Eventbrite OR by emailing or calling Jen Layton: jlayton@ccmke
 .org or 414-771-2881 x4167. Registration deadline is 9/24/2021. Any questi
 ons? Please contact Jen Layton.
DTSTART;TZID=America/Chicago:20211002T110000
DTEND;TZID=America/Chicago:20211002T150000
LOCATION:
SUMMARY:Wisonsin Birthmothers Retreat\, Catholic Charities
END:VEVENT
END:VCALENDAR
