BEGIN:VCALENDAR
VERSION:2.0
PRODID:-//birthparentsupportalliance.org//NONSGML kigkonsult.se iCalcreator
  2.30.10//
CALSCALE:GREGORIAN
METHOD:PUBLISH
UID:1d18689f-4a71-4757-af03-ce2449b84306
X-WR-CALDESC:Birthmoms Connect  Zoom Calls are 3 monthly calls on the first
  Tuesday\, second Thursday and third Saturday of each month.\n\nOn Your Fe
 et case management and retreat staff moderate each call and each month wil
 l have a new theme. Discussion materials will be shared during the month t
 o help enhance each week's call. Birthmoms are welcome to join any and all
  calls no matter their affiliation with On Your Feet or where they live.\n
 \nTo participate\, please download the Zoom app. Registration is required 
 to join the calls. Registering once will give you access to every call for
  that particular day (every first Tuesday call\, for example).
X-WR-RELCALID:60d717addb28c06076112d8055fc8cac
X-WR-TIMEZONE:America/Chicago
BEGIN:VTIMEZONE
TZID:America/Chicago
BEGIN:STANDARD
TZNAME:CST
DTSTART:20201101T020000
TZOFFSETFROM:-0500
TZOFFSETTO:-0600
RDATE:20211107T020000
RDATE:20221106T020000
END:STANDARD
BEGIN:DAYLIGHT
TZNAME:CDT
DTSTART:20210314T020000
TZOFFSETFROM:-0600
TZOFFSETTO:-0500
RDATE:20220313T020000
END:DAYLIGHT
END:VTIMEZONE
BEGIN:VEVENT
UID:62b02ea7-c4fb-40ec-acee-f68197c894db
DTSTAMP:20260422T221414Z
DESCRIPTION:Birthmoms Connect  Zoom Calls are 3 monthly calls on the first 
 Tuesday\, second Thursday and third Saturday of each month.\n\nOn Your Fee
 t case management and retreat staff moderate each call and each month will
  have a new theme. Discussion materials will be shared during the month to
  help enhance each week's call. Birthmoms are welcome to join any and all 
 calls no matter their affiliation with On Your Feet or where they live.\n
 \nTo participate\, please download the Zoom app. Registration is required 
 to join the calls. Registering once will give you access to every call for
  that particular day (every first Tuesday call\, for example).
DTSTART;TZID=America/Chicago:20210619T100000
DTEND;TZID=America/Chicago:20210619T110000
LOCATION:Zoom (virtual)
SUMMARY:Birthmoms Connect Zoom Call
END:VEVENT
END:VCALENDAR
