BEGIN:VCALENDAR
VERSION:2.0
PRODID:-//birthparentsupportalliance.org//NONSGML kigkonsult.se iCalcreator
  2.30.10//
CALSCALE:GREGORIAN
METHOD:PUBLISH
UID:a9dae6c1-5a38-4c5f-9263-ee885342bb57
X-WR-CALDESC:A discussion on the role fathers play in adoption with father 
 of three\, transracial adoptee\, mentor and motivational speaker\, Cordan 
 James. \nCertificates of attendance available.
X-WR-RELCALID:995bdf6a311e12c9a642b582c03bbeb6
X-WR-TIMEZONE:America/Chicago
BEGIN:VTIMEZONE
TZID:America/Chicago
BEGIN:STANDARD
TZNAME:CST
DTSTART:20201101T020000
TZOFFSETFROM:-0500
TZOFFSETTO:-0600
RDATE:20211107T020000
RDATE:20221106T020000
END:STANDARD
BEGIN:DAYLIGHT
TZNAME:CDT
DTSTART:20210314T020000
TZOFFSETFROM:-0600
TZOFFSETTO:-0500
RDATE:20220313T020000
END:DAYLIGHT
END:VTIMEZONE
BEGIN:VEVENT
UID:3533ae13-578e-4b02-ba29-6d47fea6deb1
DTSTAMP:20260422T215533Z
DESCRIPTION:A discussion on the role fathers play in adoption with father o
 f three\, transracial adoptee\, mentor and motivational speaker\, Cordan J
 ames. \nCertificates of attendance available.
DTSTART;TZID=America/Chicago:20210613T140000
DTEND;TZID=America/Chicago:20210613T153000
LOCATION:
SUMMARY:Activism in Adoption: Finding Fatherhood
END:VEVENT
END:VCALENDAR
