BEGIN:VCALENDAR
VERSION:2.0
PRODID:-//birthparentsupportalliance.org//NONSGML kigkonsult.se iCalcreator
  2.30.10//
CALSCALE:GREGORIAN
METHOD:PUBLISH
UID:1df72a12-2cc8-4b10-a6b5-97dba8317bfa
X-WR-CALDESC:An opportunity for all members of the adoption triad\, includi
 ng birth parents\, adopted adults\, and adoptive parents\, to come togethe
 r in a safe\, confidential\, and welcoming space to share their stories. I
 t will be a space where everyone's voices are heard and respected in order
  to support one another and to learn from each person’s perspective.\n\n
X-WR-RELCALID:5f139a0aa6d6d87854deb501e26df5f3
X-WR-TIMEZONE:America/Chicago
BEGIN:VTIMEZONE
TZID:America/Chicago
BEGIN:STANDARD
TZNAME:CST
DTSTART:20201101T020000
TZOFFSETFROM:-0500
TZOFFSETTO:-0600
RDATE:20211107T020000
RDATE:20221106T020000
END:STANDARD
BEGIN:DAYLIGHT
TZNAME:CDT
DTSTART:20210314T020000
TZOFFSETFROM:-0600
TZOFFSETTO:-0500
RDATE:20220313T020000
END:DAYLIGHT
END:VTIMEZONE
BEGIN:VEVENT
UID:598824cc-536a-4eec-ad9d-248da530ee77
DTSTAMP:20260422T220448Z
DESCRIPTION:An opportunity for all members of the adoption triad\, includin
 g birth parents\, adopted adults\, and adoptive parents\, to come together
  in a safe\, confidential\, and welcoming space to share their stories. It
  will be a space where everyone's voices are heard and respected in order 
 to support one another and to learn from each person’s perspective.\n\n
DTSTART;TZID=America/Chicago:20210610T180000
DTEND;TZID=America/Chicago:20210610T190000
LOCATION:
SUMMARY:Wisconsin Adoption & Permanency: Adoption Triad Sharing Circle
END:VEVENT
END:VCALENDAR
