BEGIN:VCALENDAR
VERSION:2.0
PRODID:-//birthparentsupportalliance.org//NONSGML kigkonsult.se iCalcreator
  2.30.10//
CALSCALE:GREGORIAN
METHOD:PUBLISH
UID:8bffe4a3-f34c-41a3-9bf5-334836bd4fd4
X-WR-CALDESC:Our BirthmomsConnect  Zoom Calls are on the first Tuesday\, se
 cond Thursday and third Saturday of each month.\n\nOn Your Feet case manag
 ement and retreat staff moderate each call and each month will have a new 
 theme. Discussion materials will be shared during the month to help enhanc
 e each week's call. Birthmoms are welcome to join any and all calls no mat
 ter their affiliation with On Your Feet or where they live.\n\nTo particip
 ate\, please download the Zoom app. Registration is required to join the c
 alls. Registering once will give you access to every call for that particu
 lar day (every first Tuesday call\, for example).
X-WR-RELCALID:8e72f0133865cc556e16d6d7c4dee882
X-WR-TIMEZONE:America/Chicago
BEGIN:VTIMEZONE
TZID:America/Chicago
BEGIN:STANDARD
TZNAME:CST
DTSTART:20201101T020000
TZOFFSETFROM:-0500
TZOFFSETTO:-0600
RDATE:20211107T020000
RDATE:20221106T020000
END:STANDARD
BEGIN:DAYLIGHT
TZNAME:CDT
DTSTART:20210314T020000
TZOFFSETFROM:-0600
TZOFFSETTO:-0500
RDATE:20220313T020000
END:DAYLIGHT
END:VTIMEZONE
BEGIN:VEVENT
UID:57b6d640-9d63-4a1a-b6be-738aee149f48
DTSTAMP:20260422T220945Z
DESCRIPTION:Our BirthmomsConnect  Zoom Calls are on the first Tuesday\, sec
 ond Thursday and third Saturday of each month.\n\nOn Your Feet case manage
 ment and retreat staff moderate each call and each month will have a new t
 heme. Discussion materials will be shared during the month to help enhance
  each week's call. Birthmoms are welcome to join any and all calls no matt
 er their affiliation with On Your Feet or where they live.\n\nTo participa
 te\, please download the Zoom app. Registration is required to join the ca
 lls. Registering once will give you access to every call for that particul
 ar day (every first Tuesday call\, for example).
DTSTART;TZID=America/Chicago:20210601T140000
DTEND;TZID=America/Chicago:20210601T150000
LOCATION:Zoom virtual
SUMMARY:Birthmoms Connect Zoom Call
END:VEVENT
END:VCALENDAR
