BEGIN:VCALENDAR
VERSION:2.0
PRODID:-//birthparentsupportalliance.org//NONSGML kigkonsult.se iCalcreator
  2.30.10//
CALSCALE:GREGORIAN
METHOD:PUBLISH
UID:b10a9a8b-6cdb-4b37-a1f8-75c2dc68338a
X-WR-CALDESC:PRESENTED VIA ZOOM Throughout 2021\, On Your Feet Foundation w
 ill be hosting a monthly speaker series for all sides of the triad that co
 ntinues to expand ​on key topics explored in our first 4 session in Octobe
 r 2020: Race\, Resilience and Relationships in adoption. ​The series is be
 ing presented in 4 chapters with each chapter covering the three topics wi
 th renowned speakers.\n
X-WR-RELCALID:e87e4d0229c2271217576b7e96c23d4c
X-WR-TIMEZONE:America/Chicago
BEGIN:VTIMEZONE
TZID:America/Chicago
BEGIN:STANDARD
TZNAME:CST
DTSTART:20201101T020000
TZOFFSETFROM:-0500
TZOFFSETTO:-0600
RDATE:20211107T020000
RDATE:20221106T020000
END:STANDARD
BEGIN:DAYLIGHT
TZNAME:CDT
DTSTART:20210314T020000
TZOFFSETFROM:-0600
TZOFFSETTO:-0500
RDATE:20220313T020000
END:DAYLIGHT
END:VTIMEZONE
BEGIN:VEVENT
UID:6f55c640-e485-4cc2-a7e5-1a6b4ce0a7cb
DTSTAMP:20260422T234622Z
DESCRIPTION:PRESENTED VIA ZOOM Throughout 2021\, On Your Feet Foundation wi
 ll be hosting a monthly speaker series for all sides of the triad that con
 tinues to expand ​on key topics explored in our first 4 session in October
  2020: Race\, Resilience and Relationships in adoption. ​The series is bei
 ng presented in 4 chapters with each chapter covering the three topics wit
 h renowned speakers.\n
DTSTART;TZID=America/Chicago:20210516T140000
DTEND;TZID=America/Chicago:20210516T153000
LOCATION:Virtual/Zoom
SUMMARY:Activism in Adoption Speaker Series
END:VEVENT
END:VCALENDAR
