BEGIN:VCALENDAR
VERSION:2.0
PRODID:-//birthparentsupportalliance.org//NONSGML kigkonsult.se iCalcreator
  2.30.10//
CALSCALE:GREGORIAN
METHOD:PUBLISH
UID:fbefce67-e596-4af5-a282-e1469009e3aa
X-WR-CALDESC:An online support group for birth parents who have placed a ch
 ild for adoption. This group will meet on the 2nd Tuesday of every other m
 onth and will be facilitated by Karla Meyer out of our Eau Claire office. 
 Join the conversation!\n\nThis online group will utilize Zoom to connect o
 ver video chat. You will need to have access to a smart phone with the fre
 e Zoom app\, or a computer with a camera and microphone. Registrants will 
 be emailed a link to use for joining the video chat. If you have any quest
 ions\, please contact kmeyer@cclse.org
X-WR-RELCALID:aeb26f6124279a0870c1381c42136bdc
X-WR-TIMEZONE:America/Chicago
BEGIN:VTIMEZONE
TZID:America/Chicago
BEGIN:STANDARD
TZNAME:CST
DTSTART:20201101T020000
TZOFFSETFROM:-0500
TZOFFSETTO:-0600
RDATE:20211107T020000
RDATE:20221106T020000
END:STANDARD
BEGIN:DAYLIGHT
TZNAME:CDT
DTSTART:20210314T020000
TZOFFSETFROM:-0600
TZOFFSETTO:-0500
RDATE:20220313T020000
END:DAYLIGHT
END:VTIMEZONE
BEGIN:VEVENT
UID:046ae65e-8ed7-40dd-a260-17a05566766a
DTSTAMP:20260422T234835Z
DESCRIPTION:An online support group for birth parents who have placed a chi
 ld for adoption. This group will meet on the 2nd Tuesday of every other mo
 nth and will be facilitated by Karla Meyer out of our Eau Claire office. J
 oin the conversation!\n\nThis online group will utilize Zoom to connect ov
 er video chat. You will need to have access to a smart phone with the free
  Zoom app\, or a computer with a camera and microphone. Registrants will b
 e emailed a link to use for joining the video chat. If you have any questi
 ons\, please contact kmeyer@cclse.org
DTSTART;TZID=America/Chicago:20210511T183000
DTEND;TZID=America/Chicago:20210511T193000
LOCATION:
SUMMARY:Wisconsin Adoption & Permanency support group for birthmothers
END:VEVENT
END:VCALENDAR
