BEGIN:VCALENDAR
VERSION:2.0
PRODID:-//birthparentsupportalliance.org//NONSGML kigkonsult.se iCalcreator
  2.30.10//
CALSCALE:GREGORIAN
METHOD:PUBLISH
UID:9861ffee-43e1-46a1-a097-7198a796b43e
X-WR-CALDESC:https://onyourfeetfoundation.org/what-we-do/birthparent-servic
 es/birthmothers-day-registration-bracelet-orders.html
X-WR-RELCALID:71a404ad90f2a856345e26505573baa2
X-WR-TIMEZONE:America/Chicago
BEGIN:VTIMEZONE
TZID:America/Chicago
BEGIN:STANDARD
TZNAME:CST
DTSTART:20201101T020000
TZOFFSETFROM:-0500
TZOFFSETTO:-0600
RDATE:20211107T020000
RDATE:20221106T020000
END:STANDARD
BEGIN:DAYLIGHT
TZNAME:CDT
DTSTART:20210314T020000
TZOFFSETFROM:-0600
TZOFFSETTO:-0500
RDATE:20220313T020000
END:DAYLIGHT
END:VTIMEZONE
BEGIN:VEVENT
UID:d5440cd5-28af-41ff-bd11-f8fd04f0392d
DTSTAMP:20260422T234804Z
DESCRIPTION:https://onyourfeetfoundation.org/what-we-do/birthparent-service
 s/birthmothers-day-registration-bracelet-orders.html
DTSTART;TZID=America/Chicago:20210508T000000
DTEND;TZID=America/Chicago:20210508T235900
LOCATION:
SUMMARY:Birthmother's Day Event
END:VEVENT
END:VCALENDAR
