BEGIN:VCALENDAR
VERSION:2.0
PRODID:-//birthparentsupportalliance.org//NONSGML kigkonsult.se iCalcreator
  2.30.10//
CALSCALE:GREGORIAN
METHOD:PUBLISH
UID:bf203aec-fb25-4fc1-b70b-2232028c4d23
X-WR-CALDESC:PRESENTED VIA ZOOM Throughout 2021\, On Your Feet Foundation w
 ill be hosting a monthly speaker series for all sides of the triad that co
 ntinues to expand ​on key topics explored in our first 4 session in Octobe
 r 2020: Race\, Resilience and Relationships in adoption. ​The series is be
 ing presented in 4 chapters with each chapter covering the three topics wi
 th renowned speakers.\n
X-WR-RELCALID:c57d44fbd88cb06c3ecf0d4745f69412
X-WR-TIMEZONE:America/Chicago
BEGIN:VTIMEZONE
TZID:America/Chicago
BEGIN:STANDARD
TZNAME:CST
DTSTART:20201101T020000
TZOFFSETFROM:-0500
TZOFFSETTO:-0600
RDATE:20211107T020000
END:STANDARD
BEGIN:DAYLIGHT
TZNAME:CDT
DTSTART:20210314T020000
TZOFFSETFROM:-0600
TZOFFSETTO:-0500
RDATE:20220313T020000
END:DAYLIGHT
END:VTIMEZONE
BEGIN:VEVENT
UID:c3ae0e0b-d579-4711-b26a-07e66d3b7e6c
DTSTAMP:20260423T012609Z
DESCRIPTION:PRESENTED VIA ZOOM Throughout 2021\, On Your Feet Foundation wi
 ll be hosting a monthly speaker series for all sides of the triad that con
 tinues to expand ​on key topics explored in our first 4 session in October
  2020: Race\, Resilience and Relationships in adoption. ​The series is bei
 ng presented in 4 chapters with each chapter covering the three topics wit
 h renowned speakers.\n
DTSTART;TZID=America/Chicago:20210418T140000
DTEND;TZID=America/Chicago:20210418T153000
LOCATION:Virtual/Zoom
SUMMARY:Activism in Adoption Speaker Series
END:VEVENT
END:VCALENDAR
